BEGIN:VCALENDAR
PRODID:-//Microsoft Corporation//Outlook 16.0 MIMEDIR//EN
VERSION:2.0
METHOD:PUBLISH
X-MS-OLK-FORCEINSPECTOROPEN:TRUE
BEGIN:VTIMEZONE
TZID:America/New_York
BEGIN:STANDARD
DTSTART:16011104T020000
RRULE:FREQ=YEARLY;BYDAY=1SU;BYMONTH=11
TZOFFSETFROM:-0400
TZOFFSETTO:-0500
END:STANDARD
BEGIN:DAYLIGHT
DTSTART:16010311T020000
RRULE:FREQ=YEARLY;BYDAY=2SU;BYMONTH=3
TZOFFSETFROM:-0500
TZOFFSETTO:-0400
END:DAYLIGHT
END:VTIMEZONE
BEGIN:VEVENT
CLASS:PUBLIC
CREATED:20251029T204617Z
DESCRIPTION:Topic: The 2026 Attacker’s Playbook: Hacking Trust\nDescripti
	on: The attacker’s playbook has been completely rewritten\, and\, in 202
	6\, trust is the new attack surface. \n\nThe tactics are evolving fast: AI
	-powered phishing\, deep social engineering\, and precision targeting that
	 maps your org chart before you even know it. This is the hacker’s playb
	ook for the year ahead and you need to see it before they run the plays. \
	n\nIn this session\, Varonis Threat Labs will walk you through the entire 
	attack journey — from the first phishing email to the final payload. You
	’ll see exactly how attackers exploit trust and what you can do to stop 
	them.  \n\nBonus: Every attendee will receive an exclusive 2026 Security P
	lanning Guide to help ensure your organization is protected. \n\nDuring th
	is session\, you’ll see first-hand: \n- How phishing and social engineer
	ing open the door for attackers \n- How AI is powering smarter\, faster\, 
	more personalized attacks \n- A detailed walkthrough of the full attack ch
	ain \n- How tactics have changed since our the last Attacker’s Playbook 
	 \n\nJoin from PC\, Mac\, iPad\, or Android:\nhttps://varonis.zoom.us/s/94
	766588133?pwd=abWTHzuQjzsJsiUKzDfctrkR2UD7c4.1\nPasscode:967126\n\nPhone o
	ne-tap:\n+13126266799\,\,94766588133#\,\,\,\,*967126# US (Chicago)\n+16465
	588656\,\,94766588133#\,\,\,\,*967126# US (New York)\n\nJoin via audio:\n+
	1 312 626 6799 US (Chicago)\n+1 646 558 8656 US (New York)\n+1 646 931 386
	0 US\n+1 301 715 8592 US (Washington DC)\n+1 305 224 1968 US\n+1 309 205 3
	325 US\n+1 360 209 5623 US\n+1 386 347 5053 US\n+1 507 473 4847 US\n+1 564
	 217 2000 US\n+1 669 444 9171 US\n+1 669 900 6833 US (San Jose)\n+1 689 27
	8 1000 US\n+1 719 359 4580 US\n+1 253 205 0468 US\n+1 253 215 8782 US (Tac
	oma)\n+1 346 248 7799 US (Houston)\n833 548 0276 US Toll Free\n833 548 028
	2 US Toll Free\n833 928 4608 US Toll Free\n833 928 4609 US Toll Free\n833 
	928 4610 US Toll Free\n877 853 5247 US Toll Free\n888 788 0099 US Toll Fre
	e\n+972 2 376 4509 Israel\n+972 2 376 4510 Israel\n+972 3 978 6688 Israel\
	n1809 349 354 Israel Toll Free\n1801 227 228 Israel Toll Free\n+44 131 460
	 1196 United Kingdom\n+44 203 481 5237 United Kingdom\n+44 203 481 5240 Un
	ited Kingdom\n+44 203 901 7895 United Kingdom\n+44 208 080 6591 United Kin
	gdom\n+44 208 080 6592 United Kingdom\n+44 330 088 5830 United Kingdom\n0 
	800 456 1369 United Kingdom Toll Free\n0 800 031 5717 United Kingdom Toll 
	Free\n0 800 260 5801 United Kingdom Toll Free\n0 800 358 2817 United Kingd
	om Toll Free\n+33 1 7095 0103 France\n+33 1 7095 0350 France\n+33 1 8699 5
	831 France\n+33 1 7037 2246 France\n+33 1 7037 9729 France\n0 800 940 415 
	France Toll Free\n0 800 944 049 France Toll Free\n0 805 543 065 France Tol
	l Free\n+32 2 588 4188 Belgium\n+32 2 788 0172 Belgium\n+32 2 788 0173 Bel
	gium\n+32 1579 5132 Belgium\n+32 2 290 9360 Belgium\n+32 2 585 5574 Belgiu
	m\n0 800 293 46 Belgium Toll Free\n0 800 294 51 Belgium Toll Free\n0 800 8
	00 99 Belgium Toll Free\n+7 499 951 6380 Russia\n+7 499 281 6510 Russia\n+
	7 499 281 6543 Russia\n+7 499 951 6379 Russia\n8800 301 7427 Russia Toll F
	ree (Landline)\n8800 100 6938 Russia Toll Free\nWebinar ID: 947 6658 8133\
	nPasscode: 967126\nInternational numbers available: https://varonis.zoom.u
	s/u/adStL9Dkb6\n\n\nJoin from an H.323/SIP room system:\nH.323: \n144.195.
	19.161 (US West)\n206.247.11.121 (US East)\n159.124.15.191 (Amsterdam Neth
	erlands)\n159.124.47.249 (Germany)\n159.124.104.213 (Australia Sydney)\n15
	9.124.74.212 (Australia Melbourne)\n170.114.134.121 (Hong Kong SAR)\n170.1
	14.180.219 (Singapore)\n64.211.144.160 (Brazil)\n159.124.168.213 (Canada T
	oronto)\n159.124.196.25 (Canada Vancouver)\n170.114.194.163 (Japan Tokyo)\
	n147.124.100.25 (Japan Osaka)\nMeeting ID: 947 6658 8133\nPasscode: 967126
	\nSIP: 94766588133@zoomcrc.com\nPasscode: 967126\n
DTEND;TZID=America/New_York:20251119T130000
DTSTAMP:20251029T204332Z
DTSTART;TZID=America/New_York:20251119T120000
LAST-MODIFIED:20251029T204617Z
LOCATION:https://varonis.zoom.us/s/94766588133?pwd=abWTHzuQjzsJsiUKzDfctrkR
	2UD7c4.1
PRIORITY:5
SEQUENCE:0
SUMMARY;LANGUAGE=en-us:The 2026 Attacker’s Playbook: Hacking Trust
TRANSP:OPAQUE
UID:20251029T204332Z-94766588133@web-prod-us01-va1-webok-7b6fdc8d75-5n5t5
X-ALT-DESC;FMTTYPE=text/html:<!DOCTYPE HTML PUBLIC "-//W3C//DTD HTML 3.2//E
	N">\n<HTML>\n<HEAD>\n<META NAME="Generator" CONTENT="MS Exchange Server ve
	rsion 16.0.19029.20136">\n<TITLE></TITLE>\n</HEAD>\n<BODY>\n<!-- Converted
	 from text/plain format -->\n\n<P><FONT SIZE=2>Topic: The 2026 Attacker’
	s Playbook: Hacking Trust</FONT>\n\n<BR><FONT SIZE=2>Description: The atta
	cker’s playbook has been completely rewritten\, and\, in 2026\, trust is
	 the new attack surface. </FONT>\n</P>\n\n<P><FONT SIZE=2>The tactics are 
	evolving fast: AI-powered phishing\, deep social engineering\, and precisi
	on targeting that maps your org chart before you even know it. This is the
	 hacker’s playbook for the year ahead and you need to see it before they
	 run the plays. </FONT></P>\n\n<P><FONT SIZE=2>In this session\, Varonis T
	hreat Labs will walk you through the entire attack journey — from the fi
	rst phishing email to the final payload. You’ll see exactly how attacker
	s exploit trust and what you can do to stop them.&nbsp\; </FONT></P>\n\n<P
	><FONT SIZE=2>Bonus: Every attendee will receive an exclusive 2026 Securit
	y Planning Guide to help ensure your organization is protected. </FONT></P
	>\n\n<P><FONT SIZE=2>During this session\, you’ll see first-hand: </FONT
	>\n\n<BR><FONT SIZE=2>- How phishing and social engineering open the door 
	for attackers </FONT>\n\n<BR><FONT SIZE=2>- How AI is powering smarter\, f
	aster\, more personalized attacks </FONT>\n\n<BR><FONT SIZE=2>- A detailed
	 walkthrough of the full attack chain </FONT>\n\n<BR><FONT SIZE=2>- How ta
	ctics have changed since our the last Attacker’s Playbook&nbsp\; </FONT>
	\n</P>\n\n<P><FONT SIZE=2>Join from PC\, Mac\, iPad\, or Android:</FONT>\n
	\n<BR><FONT SIZE=2><A HREF="https://varonis.zoom.us/s/94766588133?pwd=abWT
	HzuQjzsJsiUKzDfctrkR2UD7c4.1">https://varonis.zoom.us/s/94766588133?pwd=ab
	WTHzuQjzsJsiUKzDfctrkR2UD7c4.1</A></FONT>\n\n<BR><FONT SIZE=2>Passcode:967
	126</FONT>\n</P>\n\n<P><FONT SIZE=2>Phone one-tap:</FONT>\n\n<BR><FONT SIZ
	E=2>+13126266799\,\,94766588133#\,\,\,\,*967126# US (Chicago)</FONT>\n\n<B
	R><FONT SIZE=2>+16465588656\,\,94766588133#\,\,\,\,*967126# US (New York)<
	/FONT>\n</P>\n\n<P><FONT SIZE=2>Join via audio:</FONT>\n\n<BR><FONT SIZE=2
	>+1 312 626 6799 US (Chicago)</FONT>\n\n<BR><FONT SIZE=2>+1 646 558 8656 U
	S (New York)</FONT>\n\n<BR><FONT SIZE=2>+1 646 931 3860 US</FONT>\n\n<BR><
	FONT SIZE=2>+1 301 715 8592 US (Washington DC)</FONT>\n\n<BR><FONT SIZE=2>
	+1 305 224 1968 US</FONT>\n\n<BR><FONT SIZE=2>+1 309 205 3325 US</FONT>\n\
	n<BR><FONT SIZE=2>+1 360 209 5623 US</FONT>\n\n<BR><FONT SIZE=2>+1 386 347
	 5053 US</FONT>\n\n<BR><FONT SIZE=2>+1 507 473 4847 US</FONT>\n\n<BR><FONT
	 SIZE=2>+1 564 217 2000 US</FONT>\n\n<BR><FONT SIZE=2>+1 669 444 9171 US</
	FONT>\n\n<BR><FONT SIZE=2>+1 669 900 6833 US (San Jose)</FONT>\n\n<BR><FON
	T SIZE=2>+1 689 278 1000 US</FONT>\n\n<BR><FONT SIZE=2>+1 719 359 4580 US<
	/FONT>\n\n<BR><FONT SIZE=2>+1 253 205 0468 US</FONT>\n\n<BR><FONT SIZE=2>+
	1 253 215 8782 US (Tacoma)</FONT>\n\n<BR><FONT SIZE=2>+1 346 248 7799 US (
	Houston)</FONT>\n\n<BR><FONT SIZE=2>833 548 0276 US Toll Free</FONT>\n\n<B
	R><FONT SIZE=2>833 548 0282 US Toll Free</FONT>\n\n<BR><FONT SIZE=2>833 92
	8 4608 US Toll Free</FONT>\n\n<BR><FONT SIZE=2>833 928 4609 US Toll Free</
	FONT>\n\n<BR><FONT SIZE=2>833 928 4610 US Toll Free</FONT>\n\n<BR><FONT SI
	ZE=2>877 853 5247 US Toll Free</FONT>\n\n<BR><FONT SIZE=2>888 788 0099 US 
	Toll Free</FONT>\n\n<BR><FONT SIZE=2>+972 2 376 4509 Israel</FONT>\n\n<BR>
	<FONT SIZE=2>+972 2 376 4510 Israel</FONT>\n\n<BR><FONT SIZE=2>+972 3 978 
	6688 Israel</FONT>\n\n<BR><FONT SIZE=2>1809 349 354 Israel Toll Free</FONT
	>\n\n<BR><FONT SIZE=2>1801 227 228 Israel Toll Free</FONT>\n\n<BR><FONT SI
	ZE=2>+44 131 460 1196 United Kingdom</FONT>\n\n<BR><FONT SIZE=2>+44 203 48
	1 5237 United Kingdom</FONT>\n\n<BR><FONT SIZE=2>+44 203 481 5240 United K
	ingdom</FONT>\n\n<BR><FONT SIZE=2>+44 203 901 7895 United Kingdom</FONT>\n
	\n<BR><FONT SIZE=2>+44 208 080 6591 United Kingdom</FONT>\n\n<BR><FONT SIZ
	E=2>+44 208 080 6592 United Kingdom</FONT>\n\n<BR><FONT SIZE=2>+44 330 088
	 5830 United Kingdom</FONT>\n\n<BR><FONT SIZE=2>0 800 456 1369 United King
	dom Toll Free</FONT>\n\n<BR><FONT SIZE=2>0 800 031 5717 United Kingdom Tol
	l Free</FONT>\n\n<BR><FONT SIZE=2>0 800 260 5801 United Kingdom Toll Free<
	/FONT>\n\n<BR><FONT SIZE=2>0 800 358 2817 United Kingdom Toll Free</FONT>\
	n\n<BR><FONT SIZE=2>+33 1 7095 0103 France</FONT>\n\n<BR><FONT SIZE=2>+33 
	1 7095 0350 France</FONT>\n\n<BR><FONT SIZE=2>+33 1 8699 5831 France</FONT
	>\n\n<BR><FONT SIZE=2>+33 1 7037 2246 France</FONT>\n\n<BR><FONT SIZE=2>+3
	3 1 7037 9729 France</FONT>\n\n<BR><FONT SIZE=2>0 800 940 415 France Toll 
	Free</FONT>\n\n<BR><FONT SIZE=2>0 800 944 049 France Toll Free</FONT>\n\n<
	BR><FONT SIZE=2>0 805 543 065 France Toll Free</FONT>\n\n<BR><FONT SIZE=2>
	+32 2 588 4188 Belgium</FONT>\n\n<BR><FONT SIZE=2>+32 2 788 0172 Belgium</
	FONT>\n\n<BR><FONT SIZE=2>+32 2 788 0173 Belgium</FONT>\n\n<BR><FONT SIZE=
	2>+32 1579 5132 Belgium</FONT>\n\n<BR><FONT SIZE=2>+32 2 290 9360 Belgium<
	/FONT>\n\n<BR><FONT SIZE=2>+32 2 585 5574 Belgium</FONT>\n\n<BR><FONT SIZE
	=2>0 800 293 46 Belgium Toll Free</FONT>\n\n<BR><FONT SIZE=2>0 800 294 51 
	Belgium Toll Free</FONT>\n\n<BR><FONT SIZE=2>0 800 800 99 Belgium Toll Fre
	e</FONT>\n\n<BR><FONT SIZE=2>+7 499 951 6380 Russia</FONT>\n\n<BR><FONT SI
	ZE=2>+7 499 281 6510 Russia</FONT>\n\n<BR><FONT SIZE=2>+7 499 281 6543 Rus
	sia</FONT>\n\n<BR><FONT SIZE=2>+7 499 951 6379 Russia</FONT>\n\n<BR><FONT 
	SIZE=2>8800 301 7427 Russia Toll Free (Landline)</FONT>\n\n<BR><FONT SIZE=
	2>8800 100 6938 Russia Toll Free</FONT>\n\n<BR><FONT SIZE=2>Webinar ID: 94
	7 6658 8133</FONT>\n\n<BR><FONT SIZE=2>Passcode: 967126</FONT>\n\n<BR><FON
	T SIZE=2>International numbers available: <A HREF="https://varonis.zoom.us
	/u/adStL9Dkb6">https://varonis.zoom.us/u/adStL9Dkb6</A></FONT>\n</P>\n<BR>
	\n\n<P><FONT SIZE=2>Join from an H.323/SIP room system:</FONT>\n\n<BR><FON
	T SIZE=2>H.323: </FONT>\n\n<BR><FONT SIZE=2>144.195.19.161 (US West)</FONT
	>\n\n<BR><FONT SIZE=2>206.247.11.121 (US East)</FONT>\n\n<BR><FONT SIZE=2>
	159.124.15.191 (Amsterdam Netherlands)</FONT>\n\n<BR><FONT SIZE=2>159.124.
	47.249 (Germany)</FONT>\n\n<BR><FONT SIZE=2>159.124.104.213 (Australia Syd
	ney)</FONT>\n\n<BR><FONT SIZE=2>159.124.74.212 (Australia Melbourne)</FONT
	>\n\n<BR><FONT SIZE=2>170.114.134.121 (Hong Kong SAR)</FONT>\n\n<BR><FONT 
	SIZE=2>170.114.180.219 (Singapore)</FONT>\n\n<BR><FONT SIZE=2>64.211.144.1
	60 (Brazil)</FONT>\n\n<BR><FONT SIZE=2>159.124.168.213 (Canada Toronto)</F
	ONT>\n\n<BR><FONT SIZE=2>159.124.196.25 (Canada Vancouver)</FONT>\n\n<BR><
	FONT SIZE=2>170.114.194.163 (Japan Tokyo)</FONT>\n\n<BR><FONT SIZE=2>147.1
	24.100.25 (Japan Osaka)</FONT>\n\n<BR><FONT SIZE=2>Meeting ID: 947 6658 81
	33</FONT>\n\n<BR><FONT SIZE=2>Passcode: 967126</FONT>\n\n<BR><FONT SIZE=2>
	SIP: 94766588133@zoomcrc.com</FONT>\n\n<BR><FONT SIZE=2>Passcode: 967126</
	FONT>\n</P>\n\n</BODY>\n</HTML>
X-MICROSOFT-CDO-BUSYSTATUS:BUSY
X-MICROSOFT-CDO-IMPORTANCE:1
BEGIN:VALARM
TRIGGER:-PT10M
ACTION:DISPLAY
DESCRIPTION:Reminder
END:VALARM
END:VEVENT
END:VCALENDAR
